BEGIN:VCALENDAR
VERSION:2.0
CALSCALE:GREGORIAN
PRODID:adamgibbons/ics
METHOD:PUBLISH
X-PUBLISHED-TTL:PT1H
BEGIN:VEVENT
UID:2159@roma.convoca.la
SUMMARY:I colori di Nik Spatari
DTSTAMP:20260423T142850Z
DTSTART:20260426T090000Z
DTEND:20260426T120000Z
URL:https://roma.convoca.la/event/i-colori-di-nik-spatari
LOCATION:Museo Musaba - Viale Parco Museo Santa Barbara\, 89045 Mammola RC
STATUS:CONFIRMED
CATEGORIES:Locride,Museo Musaba Mammola,Nik Spatari,Vernissage
END:VEVENT
END:VCALENDAR
